BEGIN:VCALENDAR
VERSION:2.0
PRODID:-//Federación Atlética Sanluiseña - ECPv5.6.0//NONSGML v1.0//EN
CALSCALE:GREGORIAN
METHOD:PUBLISH
X-WR-CALNAME:Federación Atlética Sanluiseña
X-ORIGINAL-URL:http://fas-atletismo.com
X-WR-CALDESC:Eventos para Federación Atlética Sanluiseña
BEGIN:VTIMEZONE
TZID:UTC
BEGIN:STANDARD
TZOFFSETFROM:+0000
TZOFFSETTO:+0000
TZNAME:UTC
DTSTART:20240101T000000
END:STANDARD
END:VTIMEZONE
BEGIN:VEVENT
DTSTART;TZID=UTC:20240224T173000
DTEND;TZID=UTC:20240224T223000
DTSTAMP:20260419T183531
CREATED:20240209T191904Z
LAST-MODIFIED:20240209T191904Z
UID:3656-1708795800-1708813800@fas-atletismo.com
SUMMARY:TORNEO APERTURA 2024
DESCRIPTION:✨TORNEO APERTURA 2024 ✨ \nEstamos muy contentos de informar que nuestra flamante temporada de pista dará comienzo. \nINFO ℹ️ ????️ \n????️ | 24 de Febrero 2024 \n???? | 17:30 pm \n???? | Pista Pedro Presti \nValor de la inscripciones ???? \nAtletas Federados $3000 | Atletas Libres $3500
URL:http://fas-atletismo.com/evento/torneo-apertura-2024/
CATEGORIES:Pista
END:VEVENT
END:VCALENDAR