BEGIN:VCALENDAR
VERSION:2.0
PRODID:-//Federación Atlética Sanluiseña - ECPv5.6.0//NONSGML v1.0//EN
CALSCALE:GREGORIAN
METHOD:PUBLISH
X-WR-CALNAME:Federación Atlética Sanluiseña
X-ORIGINAL-URL:http://fas-atletismo.com
X-WR-CALDESC:Eventos para Federación Atlética Sanluiseña
BEGIN:VTIMEZONE
TZID:UTC
BEGIN:STANDARD
TZOFFSETFROM:+0000
TZOFFSETTO:+0000
TZNAME:UTC
DTSTART:20170101T000000
END:STANDARD
END:VTIMEZONE
BEGIN:VEVENT
DTSTART;TZID=UTC:20170601T140000
DTEND;TZID=UTC:20170601T170000
DTSTAMP:20260421T100855
CREATED:20170527T133634Z
LAST-MODIFIED:20170601T115607Z
UID:1536-1496325600-1496336400@fas-atletismo.com
SUMMARY:Reunión Campus Abierto ULP
DESCRIPTION:El jueves 1 de junio a las 14 hs se realizará una reunión en el campus con el personal responsable (entrenadores\, kinesiologos\, nutricionistas\, etc) a fin de indicar la forma de trabajo. Deberán asistir los atletas que están en el listado de atletas convocados para informarse de los requisitos necesarios que deben cumplir para ingresar al campus.
URL:http://fas-atletismo.com/evento/reunion-campus-abierto-ulp/
LOCATION:Campus Abierto ULP «Arturo Rodriguez Jurado»\, ULP\, La Punta\, San Luis\, Argentina
CATEGORIES:Capacitaciones
ATTACH;FMTTYPE=image/jpeg:http://fas-atletismo.com/wp-content/uploads/2017/05/IMG_20170331_111130.jpg
END:VEVENT
END:VCALENDAR