BEGIN:VCALENDAR
VERSION:2.0
PRODID:-//Federación Atlética Sanluiseña - ECPv5.6.0//NONSGML v1.0//EN
CALSCALE:GREGORIAN
METHOD:PUBLISH
X-WR-CALNAME:Federación Atlética Sanluiseña
X-ORIGINAL-URL:http://fas-atletismo.com
X-WR-CALDESC:Eventos para Federación Atlética Sanluiseña
BEGIN:VTIMEZONE
TZID:UTC
BEGIN:STANDARD
TZOFFSETFROM:+0000
TZOFFSETTO:+0000
TZNAME:UTC
DTSTART:20180101T000000
END:STANDARD
END:VTIMEZONE
BEGIN:VEVENT
DTSTART;VALUE=DATE:20180630
DTEND;VALUE=DATE:20180701
DTSTAMP:20260419T164446
CREATED:20171230T234705Z
LAST-MODIFIED:20171230T234705Z
UID:2779-1530316800-1530403199@fas-atletismo.com
SUMMARY:Preparatorio Campeonato Iberoamericano
DESCRIPTION:
URL:http://fas-atletismo.com/evento/preparatorio-campeonato-iberoamericano/
CATEGORIES:Competencias,Pista
END:VEVENT
END:VCALENDAR