BEGIN:VCALENDAR
VERSION:2.0
PRODID:-//Federación Atlética Sanluiseña - ECPv5.6.0//NONSGML v1.0//EN
CALSCALE:GREGORIAN
METHOD:PUBLISH
X-WR-CALNAME:Federación Atlética Sanluiseña
X-ORIGINAL-URL:http://fas-atletismo.com
X-WR-CALDESC:Eventos para Federación Atlética Sanluiseña
BEGIN:VTIMEZONE
TZID:UTC
BEGIN:STANDARD
TZOFFSETFROM:+0000
TZOFFSETTO:+0000
TZNAME:UTC
DTSTART:20180101T000000
END:STANDARD
END:VTIMEZONE
BEGIN:VEVENT
DTSTART;TZID=UTC:20181103T080000
DTEND;TZID=UTC:20181103T170000
DTSTAMP:20260420T123516
CREATED:20180326T182459Z
LAST-MODIFIED:20180326T183225Z
UID:3023-1541232000-1541264400@fas-atletismo.com
SUMMARY:Potrero Corre
DESCRIPTION:
URL:http://fas-atletismo.com/evento/potrero-corre/
LOCATION:Potrero de los Funes\, Potrero de LosFunes\, San Luis\, Argentina
CATEGORIES:Calle,Competencias
END:VEVENT
END:VCALENDAR