BEGIN:VCALENDAR
VERSION:2.0
PRODID:-//Federación Atlética Sanluiseña - ECPv5.6.0//NONSGML v1.0//EN
CALSCALE:GREGORIAN
METHOD:PUBLISH
X-WR-CALNAME:Federación Atlética Sanluiseña
X-ORIGINAL-URL:http://fas-atletismo.com
X-WR-CALDESC:Eventos para Federación Atlética Sanluiseña
BEGIN:VTIMEZONE
TZID:America/Sao_Paulo
BEGIN:STANDARD
TZOFFSETFROM:-0200
TZOFFSETTO:-0300
TZNAME:-03
DTSTART:20180218T020000
END:STANDARD
BEGIN:DAYLIGHT
TZOFFSETFROM:-0300
TZOFFSETTO:-0200
TZNAME:-02
DTSTART:20181104T030000
END:DAYLIGHT
END:VTIMEZONE
BEGIN:VEVENT
DTSTART;TZID=America/Sao_Paulo:20180923T073000
DTEND;TZID=America/Sao_Paulo:20180923T170000
DTSTAMP:20260420T121153
CREATED:20171231T120423Z
LAST-MODIFIED:20171231T120423Z
UID:2797-1537687800-1537722000@fas-atletismo.com
SUMMARY:Maratón Ciudad de Buenos Aires
DESCRIPTION:Maratón Ciudad de Buenos Aires – Camp. Sudamericano – Evaluativo\nPanamericano 2019
URL:http://fas-atletismo.com/evento/maraton-ciudad-de-buenos-aires/
LOCATION:Av. Pres. Figueroa Alcorta 7000\, Av. Pres. Figueroa Alcorta 7000\, CABA\, Buenos Aires\, Argentina
CATEGORIES:Calle,Competencias
END:VEVENT
END:VCALENDAR