BEGIN:VCALENDAR
VERSION:2.0
PRODID:-//Federación Atlética Sanluiseña - ECPv5.6.0//NONSGML v1.0//EN
CALSCALE:GREGORIAN
METHOD:PUBLISH
X-WR-CALNAME:Federación Atlética Sanluiseña
X-ORIGINAL-URL:http://fas-atletismo.com
X-WR-CALDESC:Eventos para Federación Atlética Sanluiseña
BEGIN:VTIMEZONE
TZID:UTC
BEGIN:STANDARD
TZOFFSETFROM:+0000
TZOFFSETTO:+0000
TZNAME:UTC
DTSTART:20180101T000000
END:STANDARD
END:VTIMEZONE
BEGIN:VEVENT
DTSTART;TZID=UTC:20180331T080000
DTEND;TZID=UTC:20180331T170000
DTSTAMP:20260423T233019
CREATED:20180320T202057Z
LAST-MODIFIED:20180320T202057Z
UID:2987-1522483200-1522515600@fas-atletismo.com
SUMMARY:La Toma
DESCRIPTION:
URL:http://fas-atletismo.com/evento/la-toma/
CATEGORIES:Calle,Competencias
END:VEVENT
END:VCALENDAR