BEGIN:VCALENDAR
VERSION:2.0
PRODID:-//Federación Atlética Sanluiseña - ECPv5.6.0//NONSGML v1.0//EN
CALSCALE:GREGORIAN
METHOD:PUBLISH
X-WR-CALNAME:Federación Atlética Sanluiseña
X-ORIGINAL-URL:http://fas-atletismo.com
X-WR-CALDESC:Eventos para Federación Atlética Sanluiseña
BEGIN:VTIMEZONE
TZID:UTC
BEGIN:STANDARD
TZOFFSETFROM:+0000
TZOFFSETTO:+0000
TZNAME:UTC
DTSTART:20170101T000000
END:STANDARD
END:VTIMEZONE
BEGIN:VEVENT
DTSTART;TZID=UTC:20171009T080000
DTEND;TZID=UTC:20171014T170000
DTSTAMP:20260421T101813
CREATED:20170821T222328Z
LAST-MODIFIED:20170821T222328Z
UID:2463-1507536000-1508000400@fas-atletismo.com
SUMMARY:Juegos Nacionales Evita
DESCRIPTION:
URL:http://fas-atletismo.com/evento/juegos-nacionales-evita/
LOCATION:Mar del Plata\, Mar del Plata\, Argentina
CATEGORIES:Competencias,Pista
END:VEVENT
END:VCALENDAR