BEGIN:VCALENDAR
VERSION:2.0
PRODID:-//Federación Atlética Sanluiseña - ECPv5.6.0//NONSGML v1.0//EN
CALSCALE:GREGORIAN
METHOD:PUBLISH
X-WR-CALNAME:Federación Atlética Sanluiseña
X-ORIGINAL-URL:http://fas-atletismo.com
X-WR-CALDESC:Eventos para Federación Atlética Sanluiseña
BEGIN:VTIMEZONE
TZID:America/Sao_Paulo
BEGIN:STANDARD
TZOFFSETFROM:-0200
TZOFFSETTO:-0300
TZNAME:-03
DTSTART:20180218T020000
END:STANDARD
BEGIN:DAYLIGHT
TZOFFSETFROM:-0300
TZOFFSETTO:-0200
TZNAME:-02
DTSTART:20181104T030000
END:DAYLIGHT
END:VTIMEZONE
BEGIN:VEVENT
DTSTART;TZID=America/Sao_Paulo:20181001T080000
DTEND;TZID=America/Sao_Paulo:20181007T170000
DTSTAMP:20260420T133536
CREATED:20171231T120820Z
LAST-MODIFIED:20171231T120820Z
UID:2802-1538380800-1538931600@fas-atletismo.com
SUMMARY:Juegos Binacionales
DESCRIPTION:
URL:http://fas-atletismo.com/evento/juegos-binacionales/
LOCATION:Valparaíso\, Valparaíso\, Chile
CATEGORIES:Competencias,Pista
END:VEVENT
END:VCALENDAR