BEGIN:VCALENDAR
VERSION:2.0
PRODID:-//Federación Atlética Sanluiseña - ECPv5.6.0//NONSGML v1.0//EN
CALSCALE:GREGORIAN
METHOD:PUBLISH
X-WR-CALNAME:Federación Atlética Sanluiseña
X-ORIGINAL-URL:http://fas-atletismo.com
X-WR-CALDESC:Eventos para Federación Atlética Sanluiseña
BEGIN:VTIMEZONE
TZID:America/Sao_Paulo
BEGIN:STANDARD
TZOFFSETFROM:-0200
TZOFFSETTO:-0300
TZNAME:-03
DTSTART:20180218T020000
END:STANDARD
BEGIN:DAYLIGHT
TZOFFSETFROM:-0300
TZOFFSETTO:-0200
TZNAME:-02
DTSTART:20181104T030000
END:DAYLIGHT
END:VTIMEZONE
BEGIN:VEVENT
DTSTART;TZID=America/Sao_Paulo:20181212T190000
DTEND;TZID=America/Sao_Paulo:20181212T190000
DTSTAMP:20260419T212828
CREATED:20180321T205110Z
LAST-MODIFIED:20180321T210334Z
UID:3009-1544641200-1544641200@fas-atletismo.com
SUMMARY:Guadalupana
DESCRIPTION:
URL:http://fas-atletismo.com/evento/guadalupana/
LOCATION:La Pedrera\, -33.683686\, -65.497223
CATEGORIES:Calle,Competencias
END:VEVENT
END:VCALENDAR