BEGIN:VCALENDAR
VERSION:2.0
PRODID:-//Federación Atlética Sanluiseña - ECPv5.6.0//NONSGML v1.0//EN
CALSCALE:GREGORIAN
METHOD:PUBLISH
X-WR-CALNAME:Federación Atlética Sanluiseña
X-ORIGINAL-URL:http://fas-atletismo.com
X-WR-CALDESC:Eventos para Federación Atlética Sanluiseña
BEGIN:VTIMEZONE
TZID:America/Sao_Paulo
BEGIN:STANDARD
TZOFFSETFROM:-0200
TZOFFSETTO:-0300
TZNAME:-03
DTSTART:20180218T020000
END:STANDARD
BEGIN:DAYLIGHT
TZOFFSETFROM:-0300
TZOFFSETTO:-0200
TZNAME:-02
DTSTART:20181104T030000
END:DAYLIGHT
END:VTIMEZONE
BEGIN:VEVENT
DTSTART;TZID=America/Sao_Paulo:20181020T150000
DTEND;TZID=America/Sao_Paulo:20181020T170000
DTSTAMP:20260420T183152
CREATED:20180524T165434Z
LAST-MODIFIED:20180812T164536Z
UID:3154-1540047600-1540054800@fas-atletismo.com
SUMMARY:Fundación San Ignacio
DESCRIPTION:
URL:http://fas-atletismo.com/evento/fundacion-san-ignacio/
CATEGORIES:Calle,Competencias
ATTACH;FMTTYPE=image/jpeg:http://fas-atletismo.com/wp-content/uploads/2018/05/San-Ignacio.jpeg
END:VEVENT
END:VCALENDAR