BEGIN:VCALENDAR
VERSION:2.0
PRODID:-//Federación Atlética Sanluiseña - ECPv5.6.0//NONSGML v1.0//EN
CALSCALE:GREGORIAN
METHOD:PUBLISH
X-WR-CALNAME:Federación Atlética Sanluiseña
X-ORIGINAL-URL:http://fas-atletismo.com
X-WR-CALDESC:Eventos para Federación Atlética Sanluiseña
BEGIN:VTIMEZONE
TZID:America/Sao_Paulo
BEGIN:STANDARD
TZOFFSETFROM:-0200
TZOFFSETTO:-0300
TZNAME:-03
DTSTART:20180218T020000
END:STANDARD
BEGIN:DAYLIGHT
TZOFFSETFROM:-0300
TZOFFSETTO:-0200
TZNAME:-02
DTSTART:20181104T030000
END:DAYLIGHT
END:VTIMEZONE
BEGIN:VEVENT
DTSTART;TZID=America/Sao_Paulo:20180922T090000
DTEND;TZID=America/Sao_Paulo:20180922T150000
DTSTAMP:20260420T104732
CREATED:20171231T120225Z
LAST-MODIFIED:20180913T032247Z
UID:2795-1537606800-1537628400@fas-atletismo.com
SUMMARY:Festival Nacional U14
DESCRIPTION:4° FESTIVAL U 14 REGION CUYO \nOrganiza: AMA\, CADA \nFiscaliza: AMA \nFecha: 22 de septiembre del 2018 \nLugar: Pista Sintética de Mendoza \nHora: 09.00 \nCategorías. 2005\, 2006\, 2007\, participan como invitados 2004\, 2003\, 2002\, 2001\, 2000 \nInscripción: Por la página de  CADA o de AMA\, ( www.ama-mza.com.ar)\, Valor $ 100 \nCierre de las inscripciones miércoles 19 a las 22.00 horas  \nPremiación. Medallas a los 5 primeros atletas por combo  \nCombos \nCombinada 1 VARONES: Bala – Salto Alto – 80 m c/v \nCombinada 1 MUJERES: Bala – Salto Alto – 80 m. \nCombinada 2 VARONES: Bala– Salto Largo – martillo  \nCombinada 2 MUJERES: Bala– Salto Largo – martillo \nCombinada 3 VARONES: 80 m –Lanz.  Jabalina– 1200 m \nCombinada 3 MUJERES: 80 m –Lanz. Jabalina– 1200 m \nCombinada 4 VARONES: 80 m – largo – 2600m Marcha  \nCombinada 4 MUJERES: 80 m – largo – 2600m Marcha  \nCombinada 5 VARONES  80 m – Alto – Disco \nCombinada 5 MUJERES: 80 m – alto – Disco \nCOMBINADA 6 VARONES: 80 m – bala – Salto con Garrocha  \nCOMBINADA 6 MUJERES: 80 m – bala –Salto con Garrocha \nPROGRAMA HORARIO \n  \n\n\n\nCámara\nInicio Prueba\nPruebas\nInstancia\n\n\n09.30\n10.00\n80 c/v Damas \nBala Varones \nLargo Damas \nDisco Varones \nGarrocha Varones\nFinal \nFinal \nFinal \nFinal \nFinal\n\n\n10.00\n10.30\n80 c/v Varones\nFinal\n\n\n10.30\n11.00\n2600 marcha Damas \nBala Damas \nLargo Varones \nDisco Damas\nFinal \nFinal \nFinal \nFinal\n\n\n11.00\n11.30\n2600 marcha Varones\nFinal\n\n\n11.30\n12.00\n80 metros Damas \nAlto Damas y Varones \nMartillo damas \nJabalina Varones \nGarrocha Damas\nFinal \nFinal \nFinal \nFinal \nFinal\n\n\n12.00\n12.30\n80 metros Varones\nFinal\n\n\n12.30\n13.00\n600 metros damas \nMartillo Varones \nJabalinas Damas \nTriple Damas y varones única\nFinal \nFinal \nFinal \nFinal\n\n\n13.00\n13.30\n100 Metros  Damas  única\nFinal\n\n\n13.30\n14.00\n100 Metros Varones única\nFinal\n\n\n13.50\n14.30\n5000 metros damas única\nFinal\n\n\n14.20\n15.00\n5000 metros varones única\nFinal
URL:http://fas-atletismo.com/evento/festival-nacional-u14/
CATEGORIES:Competencias,Pista
END:VEVENT
END:VCALENDAR