BEGIN:VCALENDAR
VERSION:2.0
PRODID:-//Federación Atlética Sanluiseña - ECPv5.6.0//NONSGML v1.0//EN
CALSCALE:GREGORIAN
METHOD:PUBLISH
X-WR-CALNAME:Federación Atlética Sanluiseña
X-ORIGINAL-URL:http://fas-atletismo.com
X-WR-CALDESC:Eventos para Federación Atlética Sanluiseña
BEGIN:VTIMEZONE
TZID:America/Sao_Paulo
BEGIN:STANDARD
TZOFFSETFROM:-0200
TZOFFSETTO:-0300
TZNAME:-03
DTSTART:20180218T020000
END:STANDARD
BEGIN:DAYLIGHT
TZOFFSETFROM:-0300
TZOFFSETTO:-0200
TZNAME:-02
DTSTART:20181104T030000
END:DAYLIGHT
END:VTIMEZONE
BEGIN:VEVENT
DTSTART;TZID=America/Sao_Paulo:20180804T100000
DTEND;TZID=America/Sao_Paulo:20180804T170000
DTSTAMP:20260419T195758
CREATED:20180321T184054Z
LAST-MODIFIED:20180718T022636Z
UID:3001-1533376800-1533402000@fas-atletismo.com
SUMMARY:Dog Runner
DESCRIPTION:
URL:http://fas-atletismo.com/evento/dog-runner-2/
CATEGORIES:Calle,Competencias
ATTACH;FMTTYPE=image/jpeg:http://fas-atletismo.com/wp-content/uploads/2018/03/Dog-runner.jpeg
END:VEVENT
END:VCALENDAR