BEGIN:VCALENDAR
VERSION:2.0
PRODID:-//Federación Atlética Sanluiseña - ECPv5.6.0//NONSGML v1.0//EN
CALSCALE:GREGORIAN
METHOD:PUBLISH
X-WR-CALNAME:Federación Atlética Sanluiseña
X-ORIGINAL-URL:http://fas-atletismo.com
X-WR-CALDESC:Eventos para Federación Atlética Sanluiseña
BEGIN:VTIMEZONE
TZID:America/Sao_Paulo
BEGIN:STANDARD
TZOFFSETFROM:-0200
TZOFFSETTO:-0300
TZNAME:-03
DTSTART:20170219T020000
END:STANDARD
BEGIN:DAYLIGHT
TZOFFSETFROM:-0300
TZOFFSETTO:-0200
TZNAME:-02
DTSTART:20171015T030000
END:DAYLIGHT
END:VTIMEZONE
BEGIN:VEVENT
DTSTART;VALUE=DATE:20170924
DTEND;VALUE=DATE:20170925
DTSTAMP:20260421T084909
CREATED:20170620T234830Z
LAST-MODIFIED:20170620T234830Z
UID:2118-1506211200-1506297599@fas-atletismo.com
SUMMARY:Carrera de la primavera
DESCRIPTION:
URL:http://fas-atletismo.com/evento/carrera-de-la-primavera/
LOCATION:San Luis\, Rivadavia 456\, San Luis\, San Luis\, 5700\, Argentina
CATEGORIES:Calle,Competencias
END:VEVENT
END:VCALENDAR