BEGIN:VCALENDAR
VERSION:2.0
PRODID:-//Federación Atlética Sanluiseña - ECPv5.6.0//NONSGML v1.0//EN
CALSCALE:GREGORIAN
METHOD:PUBLISH
X-WR-CALNAME:Federación Atlética Sanluiseña
X-ORIGINAL-URL:http://fas-atletismo.com
X-WR-CALDESC:Eventos para Federación Atlética Sanluiseña
BEGIN:VTIMEZONE
TZID:UTC
BEGIN:STANDARD
TZOFFSETFROM:+0000
TZOFFSETTO:+0000
TZNAME:UTC
DTSTART:20180101T000000
END:STANDARD
END:VTIMEZONE
BEGIN:VEVENT
DTSTART;TZID=UTC:20180310T160000
DTEND;TZID=UTC:20180310T170000
DTSTAMP:20260423T200906
CREATED:20180119T172223Z
LAST-MODIFIED:20180127T135239Z
UID:2847-1520697600-1520701200@fas-atletismo.com
SUMMARY:Carrera de la Mujer
DESCRIPTION:
URL:http://fas-atletismo.com/evento/carrera-de-la-mujer/
CATEGORIES:Calle,Competencias
ATTACH;FMTTYPE=image/jpeg:http://fas-atletismo.com/wp-content/uploads/2018/01/Dia-de-la-mujer.jpg
END:VEVENT
END:VCALENDAR