BEGIN:VCALENDAR
VERSION:2.0
PRODID:-//Federación Atlética Sanluiseña - ECPv5.6.0//NONSGML v1.0//EN
CALSCALE:GREGORIAN
METHOD:PUBLISH
X-WR-CALNAME:Federación Atlética Sanluiseña
X-ORIGINAL-URL:http://fas-atletismo.com
X-WR-CALDESC:Eventos para Federación Atlética Sanluiseña
BEGIN:VTIMEZONE
TZID:America/Sao_Paulo
BEGIN:STANDARD
TZOFFSETFROM:-0200
TZOFFSETTO:-0300
TZNAME:-03
DTSTART:20180218T020000
END:STANDARD
BEGIN:DAYLIGHT
TZOFFSETFROM:-0300
TZOFFSETTO:-0200
TZNAME:-02
DTSTART:20181104T030000
END:DAYLIGHT
END:VTIMEZONE
BEGIN:VEVENT
DTSTART;TZID=America/Sao_Paulo:20180210T080000
DTEND;TZID=America/Sao_Paulo:20180210T170000
DTSTAMP:20260423T124353
CREATED:20171231T133114Z
LAST-MODIFIED:20180131T132203Z
UID:2815-1518249600-1518282000@fas-atletismo.com
SUMMARY:CAMPEONATO NACIONAL DE ULTRATRAIL (75K) Y DE TRAIL (30K)
DESCRIPTION:La distancia de 75 kilómetros será válida como Campeonato Nacional de UltraTrail y la de 30 Kilómetros como Campeonato Nacional de Trail\, designados por la Confederación Argentina de Atletismo (CADA) y para el de UltraTrail\, se cuenta también con el aval de la Asociación Argentina de Ultramaratonistas. Como se realiza en la provincia de Neuquén\, también se cuenta con el aval de la Federación Atlética Neuquina. \nLos 75 Kilómetros serán Estándar B de Selección para el Equipo Nacional que participará en el Mundial de UltraTrail a realizarse en Penyagolosa Trails (85k – Castellón\, España\, 12 de Mayo 2018). \nLos 30 Kilómetros serán Estándar B de Selección para el Equipo Nacional que participará en el 15º WMRA Long Distance World Mountain Running Championships a realizarse en The Times Sniezka Mountain Race (36k – Karpacz\, Polonia\, 24 de Junio 2018). \n75 Kilómetros \nInformación General \n\nFecha: 10 de Febrero 2018.\nHora de largada: 4 hs.\nHora de cierre: 21 hs.\nLugar de largada: Base Cerro Chapelco (San Martín de los Andes\, Neuquén\, Argentina).\nLugar de llegada: Base Cerro Chapelco (San Martín de los Andes\, Neuquén\, Argentina).\n\nDatos técnicos \n\nDistancia: 74.5 kilómetros.\nDesnivel positivo: 4117 metros.\nDesnivel negativo: 4122 metros.\nDesnivel acumulado: 8239 metros.\nAltura mínima: 862 MSNM.\nAltura máxima: 2033 MSNM.\nCantidad de abastecimientos: 6 (Seis).\n\nCircuito y Altimetría \n \n  \n30 kilómetros \nInformación General \n\nFecha: 10 de Febrero 2018.\nHora de largada: 8 hs.\nHora de cierre: 17 hs.\nLugar de largada: Base Cerro Chapelco (San Martín de los Andes\, Neuquén\, Argentina).\nLugar de llegada: Base Cerro Chapelco (San Martín de los Andes\, Neuquén\, Argentina).\n\nDatos técnicos \n\nDistancia: 31.7 kilómetros.\nDesnivel positivo: 1595 metros.\nDesnivel negativo: 1600 metros.\nDesnivel acumulado: 3195 metros.\nAltura mínima: 862 MSNM.\nAltura máxima: 1815 MSNM.\nCantidad de abastecimientos: 4 (Cuatro).\n\n \n  \nElementos Obligatorios \n75 Kilómetros \n\nMochila que pase por los hombros.\nReservorio para un litro de agua (lleno en la largada).\nRemera térmica mangas largas primera piel.\nCampera Impermeable (membrana Gore-Tex o similar).\nGorro o buff.\nGuantes.\nAnteojos de sol.\nManta de supervivencia.\nVenda elástica que permita hacer un estribo o curación.\nSilbato.\nAlimento para toda la competencia.\nLinterna frontal con pilas / batería de recambio.\n\n  \nMas Información…
URL:http://fas-atletismo.com/evento/campeonato-nacional-de-ultratrail-75k-y-de-trail-30k/
CATEGORIES:Competencias,Trail
ATTACH;FMTTYPE=image/png:http://fas-atletismo.com/wp-content/uploads/2017/12/Logo-ADN-Trail-5d2f10ed.png
END:VEVENT
END:VCALENDAR