BEGIN:VCALENDAR
VERSION:2.0
PRODID:-//Federación Atlética Sanluiseña - ECPv5.6.0//NONSGML v1.0//EN
CALSCALE:GREGORIAN
METHOD:PUBLISH
X-WR-CALNAME:Federación Atlética Sanluiseña
X-ORIGINAL-URL:http://fas-atletismo.com
X-WR-CALDESC:Eventos para Federación Atlética Sanluiseña
BEGIN:VTIMEZONE
TZID:UTC
BEGIN:STANDARD
TZOFFSETFROM:+0000
TZOFFSETTO:+0000
TZNAME:UTC
DTSTART:20180101T000000
END:STANDARD
END:VTIMEZONE
BEGIN:VEVENT
DTSTART;TZID=UTC:20180429T080000
DTEND;TZID=UTC:20180429T170000
DTSTAMP:20260423T173257
CREATED:20180308T170647Z
LAST-MODIFIED:20180321T182645Z
UID:2921-1524988800-1525021200@fas-atletismo.com
SUMMARY:CAMPEONATO NACIONAL DE CROSS MÁSTER
DESCRIPTION:
URL:http://fas-atletismo.com/evento/campeonato-nacional-de-cross-master/
CATEGORIES:Competencias,Trail
ATTACH;FMTTYPE=image/jpeg:http://fas-atletismo.com/wp-content/uploads/2018/03/Nacional-Cross-e1521656776713.jpg
END:VEVENT
END:VCALENDAR