BEGIN:VCALENDAR
VERSION:2.0
PRODID:-//Federación Atlética Sanluiseña - ECPv5.6.0//NONSGML v1.0//EN
CALSCALE:GREGORIAN
METHOD:PUBLISH
X-WR-CALNAME:Federación Atlética Sanluiseña
X-ORIGINAL-URL:http://fas-atletismo.com
X-WR-CALDESC:Eventos para Federación Atlética Sanluiseña
BEGIN:VTIMEZONE
TZID:UTC
BEGIN:STANDARD
TZOFFSETFROM:+0000
TZOFFSETTO:+0000
TZNAME:UTC
DTSTART:20240101T000000
END:STANDARD
END:VTIMEZONE
BEGIN:VEVENT
DTSTART;TZID=UTC:20240721T080000
DTEND;TZID=UTC:20240721T130000
DTSTAMP:20260419T184210
CREATED:20240707T221416Z
LAST-MODIFIED:20240707T221858Z
UID:3682-1721548800-1721566800@fas-atletismo.com
SUMMARY:Campeonato Colores 1era fecha: San Luis
DESCRIPTION:
URL:http://fas-atletismo.com/evento/campeonato-colores-1era-fecha-san-luis/
LOCATION:Pista Pedro Presti\, 25 de Mayo y Neuquén\, San Luis\, San Luis\, 5700\, Argentina
CATEGORIES:Calle,Competencias
ATTACH;FMTTYPE=image/jpeg:http://fas-atletismo.com/wp-content/uploads/2024/07/WhatsApp-Image-2024-06-13-at-16.48.32.jpeg
END:VEVENT
END:VCALENDAR