BEGIN:VCALENDAR
VERSION:2.0
PRODID:-//Federación Atlética Sanluiseña - ECPv5.6.0//NONSGML v1.0//EN
CALSCALE:GREGORIAN
METHOD:PUBLISH
X-WR-CALNAME:Federación Atlética Sanluiseña
X-ORIGINAL-URL:http://fas-atletismo.com
X-WR-CALDESC:Eventos para Federación Atlética Sanluiseña
BEGIN:VTIMEZONE
TZID:UTC
BEGIN:STANDARD
TZOFFSETFROM:+0000
TZOFFSETTO:+0000
TZNAME:UTC
DTSTART:20180101T000000
END:STANDARD
END:VTIMEZONE
BEGIN:VEVENT
DTSTART;TZID=UTC:20181202T080000
DTEND;TZID=UTC:20181202T170000
DTSTAMP:20260420T003954
CREATED:20180320T202021Z
LAST-MODIFIED:20180320T202021Z
UID:2985-1543737600-1543770000@fas-atletismo.com
SUMMARY:Calle Angosta
DESCRIPTION:
URL:http://fas-atletismo.com/evento/calle-angosta-2/
END:VEVENT
END:VCALENDAR