BEGIN:VCALENDAR
VERSION:2.0
PRODID:-//Federación Atlética Sanluiseña - ECPv5.6.0//NONSGML v1.0//EN
CALSCALE:GREGORIAN
METHOD:PUBLISH
X-WR-CALNAME:Federación Atlética Sanluiseña
X-ORIGINAL-URL:http://fas-atletismo.com
X-WR-CALDESC:Eventos para Federación Atlética Sanluiseña
BEGIN:VTIMEZONE
TZID:America/Sao_Paulo
BEGIN:STANDARD
TZOFFSETFROM:-0200
TZOFFSETTO:-0300
TZNAME:-03
DTSTART:20180218T020000
END:STANDARD
BEGIN:DAYLIGHT
TZOFFSETFROM:-0300
TZOFFSETTO:-0200
TZNAME:-02
DTSTART:20181104T030000
END:DAYLIGHT
END:VTIMEZONE
BEGIN:VEVENT
DTSTART;TZID=America/Sao_Paulo:20180414T080000
DTEND;TZID=America/Sao_Paulo:20180415T170000
DTSTAMP:20260424T030602
CREATED:20171230T233858Z
LAST-MODIFIED:20171230T233858Z
UID:2769-1523692800-1523811600@fas-atletismo.com
SUMMARY:98° Campeonato Nacional Mayores
DESCRIPTION:98° Campeonato Nacional Mayores – Selectivo ODESUR – Evaluativo\nIberoamericano – Evaluativo Universitario – U23
URL:http://fas-atletismo.com/evento/98-campeonato-nacional-mayores/
LOCATION:Rosario\, Rosario\, Santa Fe\, Argentina
CATEGORIES:Competencias,Pista
END:VEVENT
END:VCALENDAR