BEGIN:VCALENDAR
VERSION:2.0
PRODID:-//Federación Atlética Sanluiseña - ECPv5.6.0//NONSGML v1.0//EN
CALSCALE:GREGORIAN
METHOD:PUBLISH
X-WR-CALNAME:Federación Atlética Sanluiseña
X-ORIGINAL-URL:http://fas-atletismo.com
X-WR-CALDESC:Eventos para Federación Atlética Sanluiseña
BEGIN:VTIMEZONE
TZID:America/Sao_Paulo
BEGIN:STANDARD
TZOFFSETFROM:-0200
TZOFFSETTO:-0300
TZNAME:-03
DTSTART:20180218T020000
END:STANDARD
BEGIN:DAYLIGHT
TZOFFSETFROM:-0300
TZOFFSETTO:-0200
TZNAME:-02
DTSTART:20181104T030000
END:DAYLIGHT
END:VTIMEZONE
BEGIN:VEVENT
DTSTART;TZID=America/Sao_Paulo:20181026T080000
DTEND;TZID=America/Sao_Paulo:20181028T170000
DTSTAMP:20260420T165913
CREATED:20171231T121725Z
LAST-MODIFIED:20171231T121725Z
UID:2807-1540540800-1540746000@fas-atletismo.com
SUMMARY:8° Campeonato Sudamericano U23
DESCRIPTION:
URL:http://fas-atletismo.com/evento/8-campeonato-sudamericano-u23/
LOCATION:Pista de atletismo Provincial de Mendoza\, 32°53'22.6"S 68°52'46.2"W\, Argentina
CATEGORIES:Competencias,Pista
END:VEVENT
END:VCALENDAR