BEGIN:VCALENDAR
VERSION:2.0
PRODID:-//Federación Atlética Sanluiseña - ECPv5.6.0//NONSGML v1.0//EN
CALSCALE:GREGORIAN
METHOD:PUBLISH
X-WR-CALNAME:Federación Atlética Sanluiseña
X-ORIGINAL-URL:http://fas-atletismo.com
X-WR-CALDESC:Eventos para Federación Atlética Sanluiseña
BEGIN:VTIMEZONE
TZID:America/Sao_Paulo
BEGIN:STANDARD
TZOFFSETFROM:-0200
TZOFFSETTO:-0300
TZNAME:-03
DTSTART:20180218T020000
END:STANDARD
BEGIN:DAYLIGHT
TZOFFSETFROM:-0300
TZOFFSETTO:-0200
TZNAME:-02
DTSTART:20181104T030000
END:DAYLIGHT
END:VTIMEZONE
BEGIN:VEVENT
DTSTART;TZID=America/Sao_Paulo:20181103T080000
DTEND;TZID=America/Sao_Paulo:20181103T170000
DTSTAMP:20260420T111206
CREATED:20180603T225508Z
LAST-MODIFIED:20180718T023841Z
UID:3205-1541232000-1541264400@fas-atletismo.com
SUMMARY:5° Fecha provincial de pista
DESCRIPTION:
URL:http://fas-atletismo.com/evento/6-fecha-provincial-de-pista/
CATEGORIES:Competencias,Pista
ATTACH;FMTTYPE=image/jpeg:http://fas-atletismo.com/wp-content/uploads/2018/05/Logo-Pista-copia.jpg
END:VEVENT
END:VCALENDAR