BEGIN:VCALENDAR
VERSION:2.0
PRODID:-//Federación Atlética Sanluiseña - ECPv5.6.0//NONSGML v1.0//EN
CALSCALE:GREGORIAN
METHOD:PUBLISH
X-WR-CALNAME:Federación Atlética Sanluiseña
X-ORIGINAL-URL:http://fas-atletismo.com
X-WR-CALDESC:Eventos para Federación Atlética Sanluiseña
BEGIN:VTIMEZONE
TZID:UTC
BEGIN:STANDARD
TZOFFSETFROM:+0000
TZOFFSETTO:+0000
TZNAME:UTC
DTSTART:20170101T000000
END:STANDARD
END:VTIMEZONE
BEGIN:VEVENT
DTSTART;TZID=UTC:20171203T100000
DTEND;TZID=UTC:20171203T170000
DTSTAMP:20260421T084902
CREATED:20170607T023424Z
LAST-MODIFIED:20170925T182442Z
UID:1976-1512295200-1512320400@fas-atletismo.com
SUMMARY:4° Fecha Trail
DESCRIPTION:FINAL DEL CAMPEONATO PROVINCIAL DE TRAIL\nMas Información
URL:http://fas-atletismo.com/evento/4-fecha-trail/
LOCATION:Potrero de los Funes\, Potrero de LosFunes\, San Luis\, Argentina
CATEGORIES:Competencias,Trail
ATTACH;FMTTYPE=image/jpeg:http://fas-atletismo.com/wp-content/uploads/2017/06/Campeonato.jpg
END:VEVENT
END:VCALENDAR