BEGIN:VCALENDAR
VERSION:2.0
PRODID:-//Federación Atlética Sanluiseña - ECPv5.6.0//NONSGML v1.0//EN
CALSCALE:GREGORIAN
METHOD:PUBLISH
X-WR-CALNAME:Federación Atlética Sanluiseña
X-ORIGINAL-URL:http://fas-atletismo.com
X-WR-CALDESC:Eventos para Federación Atlética Sanluiseña
BEGIN:VTIMEZONE
TZID:America/Sao_Paulo
BEGIN:STANDARD
TZOFFSETFROM:-0200
TZOFFSETTO:-0300
TZNAME:-03
DTSTART:20180218T020000
END:STANDARD
BEGIN:DAYLIGHT
TZOFFSETFROM:-0300
TZOFFSETTO:-0200
TZNAME:-02
DTSTART:20181104T030000
END:DAYLIGHT
END:VTIMEZONE
BEGIN:VEVENT
DTSTART;TZID=America/Sao_Paulo:20180811T080000
DTEND;TZID=America/Sao_Paulo:20180811T170000
DTSTAMP:20260419T212711
CREATED:20180603T225212Z
LAST-MODIFIED:20180722T222857Z
UID:3201-1533974400-1534006800@fas-atletismo.com
SUMMARY:3° Fecha Provincial de pista
DESCRIPTION:  \nHORARIO 11-08-2018
URL:http://fas-atletismo.com/evento/4-fecha-provincial-de-pista/
LOCATION:Pista de Atletismo del Parque Costanera Rio Quinto\, Costanera Rio Quinto\, Villa Mercedes\, San Luis\, Argentina
CATEGORIES:Competencias,Pista
ATTACH;FMTTYPE=image/jpeg:http://fas-atletismo.com/wp-content/uploads/2018/05/Logo-Pista-copia.jpg
END:VEVENT
END:VCALENDAR