BEGIN:VCALENDAR
VERSION:2.0
PRODID:-//Federación Atlética Sanluiseña - ECPv5.6.0//NONSGML v1.0//EN
CALSCALE:GREGORIAN
METHOD:PUBLISH
X-WR-CALNAME:Federación Atlética Sanluiseña
X-ORIGINAL-URL:http://fas-atletismo.com
X-WR-CALDESC:Eventos para Federación Atlética Sanluiseña
BEGIN:VTIMEZONE
TZID:America/Sao_Paulo
BEGIN:STANDARD
TZOFFSETFROM:-0200
TZOFFSETTO:-0300
TZNAME:-03
DTSTART:20180218T020000
END:STANDARD
BEGIN:DAYLIGHT
TZOFFSETFROM:-0300
TZOFFSETTO:-0200
TZNAME:-02
DTSTART:20181104T030000
END:DAYLIGHT
END:VTIMEZONE
BEGIN:VEVENT
DTSTART;TZID=America/Sao_Paulo:20181014T090000
DTEND;TZID=America/Sao_Paulo:20181014T170000
DTSTAMP:20260420T175608
CREATED:20180309T012616Z
LAST-MODIFIED:20180722T230524Z
UID:2932-1539507600-1539536400@fas-atletismo.com
SUMMARY:4° fecha Campeonato Provincial de FAS
DESCRIPTION:
URL:http://fas-atletismo.com/evento/4-fecha-campeonato-provincial-de-fas/
CATEGORIES:Calle,Competencias
ATTACH;FMTTYPE=image/jpeg:http://fas-atletismo.com/wp-content/uploads/2018/03/Logo-Campeonato.jpeg
END:VEVENT
END:VCALENDAR