BEGIN:VCALENDAR
VERSION:2.0
PRODID:-//Federación Atlética Sanluiseña - ECPv5.6.0//NONSGML v1.0//EN
CALSCALE:GREGORIAN
METHOD:PUBLISH
X-WR-CALNAME:Federación Atlética Sanluiseña
X-ORIGINAL-URL:http://fas-atletismo.com
X-WR-CALDESC:Eventos para Federación Atlética Sanluiseña
BEGIN:VTIMEZONE
TZID:America/Sao_Paulo
BEGIN:STANDARD
TZOFFSETFROM:-0200
TZOFFSETTO:-0300
TZNAME:-03
DTSTART:20170219T020000
END:STANDARD
BEGIN:DAYLIGHT
TZOFFSETFROM:-0300
TZOFFSETTO:-0200
TZNAME:-02
DTSTART:20171015T030000
END:DAYLIGHT
END:VTIMEZONE
BEGIN:VEVENT
DTSTART;TZID=America/Sao_Paulo:20171006T080000
DTEND;TZID=America/Sao_Paulo:20171008T170000
DTSTAMP:20260421T101650
CREATED:20171002T121114Z
LAST-MODIFIED:20171002T121547Z
UID:2528-1507276800-1507482000@fas-atletismo.com
SUMMARY:38° Campeonato Argentino de Master
DESCRIPTION:
URL:http://fas-atletismo.com/evento/38-campeonato-argentino-de-master/
LOCATION:Resistencia\, Chaco\, Resistencia\, Chaco\, Argentina
CATEGORIES:Competencias,Pista
ATTACH;FMTTYPE=image/jpeg:http://fas-atletismo.com/wp-content/uploads/2017/10/Nacional-de-Pista-y-Campo.jpg
END:VEVENT
END:VCALENDAR