BEGIN:VCALENDAR
VERSION:2.0
PRODID:-//Federación Atlética Sanluiseña - ECPv5.6.0//NONSGML v1.0//EN
CALSCALE:GREGORIAN
METHOD:PUBLISH
X-WR-CALNAME:Federación Atlética Sanluiseña
X-ORIGINAL-URL:http://fas-atletismo.com
X-WR-CALDESC:Eventos para Federación Atlética Sanluiseña
BEGIN:VTIMEZONE
TZID:America/Sao_Paulo
BEGIN:STANDARD
TZOFFSETFROM:-0200
TZOFFSETTO:-0300
TZNAME:-03
DTSTART:20170219T020000
END:STANDARD
BEGIN:DAYLIGHT
TZOFFSETFROM:-0300
TZOFFSETTO:-0200
TZNAME:-02
DTSTART:20171015T030000
END:DAYLIGHT
END:VTIMEZONE
BEGIN:VEVENT
DTSTART;TZID=America/Sao_Paulo:20171126T100000
DTEND;TZID=America/Sao_Paulo:20171126T150000
DTSTAMP:20260423T092627
CREATED:20170710T001653Z
LAST-MODIFIED:20170929T114237Z
UID:2312-1511690400-1511708400@fas-atletismo.com
SUMMARY:3° Fecha Campeonato de Cross Country
DESCRIPTION:
URL:http://fas-atletismo.com/evento/3-fecha-campeonato-de-cross-country/
LOCATION:Parque IV Centenario\, -33.312585\, -66.327312
CATEGORIES:Competencias,Trail
ATTACH;FMTTYPE=image/jpeg:http://fas-atletismo.com/wp-content/uploads/2017/07/WhatsApp-Image-2017-09-23-at-12.21.24.jpeg
END:VEVENT
END:VCALENDAR