BEGIN:VCALENDAR
VERSION:2.0
PRODID:-//Federación Atlética Sanluiseña - ECPv5.6.0//NONSGML v1.0//EN
CALSCALE:GREGORIAN
METHOD:PUBLISH
X-WR-CALNAME:Federación Atlética Sanluiseña
X-ORIGINAL-URL:http://fas-atletismo.com
X-WR-CALDESC:Eventos para Federación Atlética Sanluiseña
BEGIN:VTIMEZONE
TZID:UTC
BEGIN:STANDARD
TZOFFSETFROM:+0000
TZOFFSETTO:+0000
TZNAME:UTC
DTSTART:20180101T000000
END:STANDARD
END:VTIMEZONE
BEGIN:VEVENT
DTSTART;TZID=UTC:20180609T080000
DTEND;TZID=UTC:20180609T170000
DTSTAMP:20260423T190645
CREATED:20180529T133612Z
LAST-MODIFIED:20180603T232443Z
UID:3188-1528531200-1528563600@fas-atletismo.com
SUMMARY:2° Fecha provincial de pista
DESCRIPTION:Presentación \nHorario
URL:http://fas-atletismo.com/evento/2-fecha-provincial-de-pista/
LOCATION:Pista de Atletismo del Parque Costanera Rio Quinto\, Costanera Rio Quinto\, Villa Mercedes\, San Luis\, Argentina
CATEGORIES:Competencias,Pista
ATTACH;FMTTYPE=image/jpeg:http://fas-atletismo.com/wp-content/uploads/2018/05/Logo-Pista-copia.jpg
END:VEVENT
END:VCALENDAR