BEGIN:VCALENDAR
VERSION:2.0
PRODID:-//Federación Atlética Sanluiseña - ECPv5.6.0//NONSGML v1.0//EN
CALSCALE:GREGORIAN
METHOD:PUBLISH
X-WR-CALNAME:Federación Atlética Sanluiseña
X-ORIGINAL-URL:http://fas-atletismo.com
X-WR-CALDESC:Eventos para Federación Atlética Sanluiseña
BEGIN:VTIMEZONE
TZID:America/Sao_Paulo
BEGIN:STANDARD
TZOFFSETFROM:-0200
TZOFFSETTO:-0300
TZNAME:-03
DTSTART:20180218T020000
END:STANDARD
BEGIN:DAYLIGHT
TZOFFSETFROM:-0300
TZOFFSETTO:-0200
TZNAME:-02
DTSTART:20181104T030000
END:DAYLIGHT
END:VTIMEZONE
BEGIN:VEVENT
DTSTART;TZID=America/Sao_Paulo:20181027T080000
DTEND;TZID=America/Sao_Paulo:20181028T170000
DTSTAMP:20260420T153040
CREATED:20171231T120622Z
LAST-MODIFIED:20180806T125841Z
UID:2799-1540627200-1540746000@fas-atletismo.com
SUMMARY:15° Campeonato Nacional U23 y Nacional Universitario
DESCRIPTION:
URL:http://fas-atletismo.com/evento/15-campeonato-nacional-u23-y-nacional-universitario/
LOCATION:La Plata\, La Plata\, Buenos Aires\, Argentina
CATEGORIES:Competencias,Pista
END:VEVENT
END:VCALENDAR