BEGIN:VCALENDAR
VERSION:2.0
PRODID:-//Federación Atlética Sanluiseña - ECPv5.6.0//NONSGML v1.0//EN
CALSCALE:GREGORIAN
METHOD:PUBLISH
X-WR-CALNAME:Federación Atlética Sanluiseña
X-ORIGINAL-URL:http://fas-atletismo.com
X-WR-CALDESC:Eventos para Federación Atlética Sanluiseña
BEGIN:VTIMEZONE
TZID:America/Sao_Paulo
BEGIN:STANDARD
TZOFFSETFROM:-0200
TZOFFSETTO:-0300
TZNAME:-03
DTSTART:20170219T020000
END:STANDARD
BEGIN:DAYLIGHT
TZOFFSETFROM:-0300
TZOFFSETTO:-0200
TZNAME:-02
DTSTART:20171015T030000
END:DAYLIGHT
END:VTIMEZONE
BEGIN:VEVENT
DTSTART;TZID=America/Sao_Paulo:20170806T100000
DTEND;TZID=America/Sao_Paulo:20170806T150000
DTSTAMP:20260421T101246
CREATED:20170710T000959Z
LAST-MODIFIED:20170710T001831Z
UID:2303-1502013600-1502031600@fas-atletismo.com
SUMMARY:1° Fecha Campeonato de Cross Country
DESCRIPTION:Se lanza el campeonato de Cross Country Organizado por las agrupaciones Parque IV Centenario y Los Linces. Está compuesto por tres fechas: 6/8\, 3/9 y 8/10. Para inscripciones y mayor información dirigirse a los contactos de la publicidad. \n 
URL:http://fas-atletismo.com/evento/1-fecha-campeonato-de-cross-country/
LOCATION:Parque IV Centenario\, -33.312585\, -66.327312
CATEGORIES:Competencias,Trail
ATTACH;FMTTYPE=image/jpeg:http://fas-atletismo.com/wp-content/uploads/2017/07/WhatsApp-Image-2017-07-01-at-10.06.17.jpeg
END:VEVENT
END:VCALENDAR